BEGIN:VCALENDAR
VERSION:2.0
PRODID:-//www.jfsw.nl - ECPv6.15.20//NONSGML v1.0//EN
CALSCALE:GREGORIAN
METHOD:PUBLISH
X-WR-CALNAME:www.jfsw.nl
X-ORIGINAL-URL:https://www.jfsw.nl
X-WR-CALDESC:Evenementen voor www.jfsw.nl
REFRESH-INTERVAL;VALUE=DURATION:PT1H
X-Robots-Tag:noindex
X-PUBLISHED-TTL:PT1H
BEGIN:VTIMEZONE
TZID:Europe/Amsterdam
BEGIN:DAYLIGHT
TZOFFSETFROM:+0100
TZOFFSETTO:+0200
TZNAME:CEST
DTSTART:20180325T010000
END:DAYLIGHT
BEGIN:STANDARD
TZOFFSETFROM:+0200
TZOFFSETTO:+0100
TZNAME:CET
DTSTART:20181028T010000
END:STANDARD
BEGIN:DAYLIGHT
TZOFFSETFROM:+0100
TZOFFSETTO:+0200
TZNAME:CEST
DTSTART:20190331T010000
END:DAYLIGHT
BEGIN:STANDARD
TZOFFSETFROM:+0200
TZOFFSETTO:+0100
TZNAME:CET
DTSTART:20191027T010000
END:STANDARD
BEGIN:DAYLIGHT
TZOFFSETFROM:+0100
TZOFFSETTO:+0200
TZNAME:CEST
DTSTART:20200329T010000
END:DAYLIGHT
BEGIN:STANDARD
TZOFFSETFROM:+0200
TZOFFSETTO:+0100
TZNAME:CET
DTSTART:20201025T010000
END:STANDARD
END:VTIMEZONE
BEGIN:VEVENT
DTSTART;VALUE=DATE:20190223
DTEND;VALUE=DATE:20190224
DTSTAMP:20260423T234020
CREATED:20181121T193007Z
LAST-MODIFIED:20181121T193047Z
UID:462-1550880000-1550966399@www.jfsw.nl
SUMMARY:2018 Komen 2.0 dag 3
DESCRIPTION:Opzet  van deze  nieuwe workshop “gehoorzaamheid” is voor honden die liever als zzp’er door het veld gaan dan samen met de voorjager aan het werk gaan. \nTijdstip en locatie volgen.
URL:https://www.jfsw.nl/training/2018-komen-2-0-dag-3/
CATEGORIES:Workshop
END:VEVENT
BEGIN:VEVENT
DTSTART;VALUE=DATE:20190120
DTEND;VALUE=DATE:20190121
DTSTAMP:20260423T234020
CREATED:20181121T192727Z
LAST-MODIFIED:20181121T192727Z
UID:460-1547942400-1548028799@www.jfsw.nl
SUMMARY:2018 Komen 2.0 dag 2
DESCRIPTION:Opzet  van deze  nieuwe workshop “gehoorzaamheid” is voor honden die liever als zzp’er door het veld gaan dan samen met de voorjager aan het werk gaan. \nTijdstip en locatie volgen.
URL:https://www.jfsw.nl/training/2018-komen-2-0-dag-2/
CATEGORIES:Workshop
END:VEVENT
BEGIN:VEVENT
DTSTART;VALUE=DATE:20190112
DTEND;VALUE=DATE:20190113
DTSTAMP:20260423T234020
CREATED:20181121T192540Z
LAST-MODIFIED:20181121T192608Z
UID:456-1547251200-1547337599@www.jfsw.nl
SUMMARY:2018 Komen 2.0 dag 1
DESCRIPTION:Opzet  van deze  nieuwe workshop “gehoorzaamheid” is voor honden die liever als zzp’er door het veld gaan dan samen met de voorjager aan het werk gaan. \nTijdstip en locatie volgen.
URL:https://www.jfsw.nl/training/2018-komen-2-0/
CATEGORIES:Workshop
END:VEVENT
END:VCALENDAR