BEGIN:VCALENDAR
VERSION:2.0
PRODID:-//www.jfsw.nl - ECPv6.15.20//NONSGML v1.0//EN
CALSCALE:GREGORIAN
METHOD:PUBLISH
X-WR-CALNAME:www.jfsw.nl
X-ORIGINAL-URL:https://www.jfsw.nl
X-WR-CALDESC:Evenementen voor www.jfsw.nl
REFRESH-INTERVAL;VALUE=DURATION:PT1H
X-Robots-Tag:noindex
X-PUBLISHED-TTL:PT1H
BEGIN:VTIMEZONE
TZID:Europe/Amsterdam
BEGIN:DAYLIGHT
TZOFFSETFROM:+0100
TZOFFSETTO:+0200
TZNAME:CEST
DTSTART:20170326T010000
END:DAYLIGHT
BEGIN:STANDARD
TZOFFSETFROM:+0200
TZOFFSETTO:+0100
TZNAME:CET
DTSTART:20171029T010000
END:STANDARD
BEGIN:DAYLIGHT
TZOFFSETFROM:+0100
TZOFFSETTO:+0200
TZNAME:CEST
DTSTART:20180325T010000
END:DAYLIGHT
BEGIN:STANDARD
TZOFFSETFROM:+0200
TZOFFSETTO:+0100
TZNAME:CET
DTSTART:20181028T010000
END:STANDARD
BEGIN:DAYLIGHT
TZOFFSETFROM:+0100
TZOFFSETTO:+0200
TZNAME:CEST
DTSTART:20190331T010000
END:DAYLIGHT
BEGIN:STANDARD
TZOFFSETFROM:+0200
TZOFFSETTO:+0100
TZNAME:CET
DTSTART:20191027T010000
END:STANDARD
BEGIN:DAYLIGHT
TZOFFSETFROM:+0100
TZOFFSETTO:+0200
TZNAME:CEST
DTSTART:20200329T010000
END:DAYLIGHT
BEGIN:STANDARD
TZOFFSETFROM:+0200
TZOFFSETTO:+0100
TZNAME:CET
DTSTART:20201025T010000
END:STANDARD
END:VTIMEZONE
BEGIN:VEVENT
DTSTART;VALUE=DATE:20190120
DTEND;VALUE=DATE:20190121
DTSTAMP:20260423T215035
CREATED:20181121T184442Z
LAST-MODIFIED:20181121T191908Z
UID:439-1547942400-1548028799@www.jfsw.nl
SUMMARY:2018 Kennismaking veldwerk dag 3
DESCRIPTION:Tijdens deze dagen leren we de hond “lezen” We kijken hoe de hond goed gebruik maakt van de wind. Samen met de voorjager probeert de hond wild te vinden( en voor te staan) Voor staande Jachthonden die eens wat anders willen. \n  \nExacte locatie en tijdstip volgen.
URL:https://www.jfsw.nl/training/2018-kennismaking-veldwerk-dag-3/
END:VEVENT
BEGIN:VEVENT
DTSTART;VALUE=DATE:20190106
DTEND;VALUE=DATE:20190107
DTSTAMP:20260423T215035
CREATED:20181121T183147Z
LAST-MODIFIED:20181121T191257Z
UID:436-1546732800-1546819199@www.jfsw.nl
SUMMARY:2018 kennismaking veldwerk dag 2
DESCRIPTION:Tijdens deze dagen leren we de hond “lezen” We kijken hoe de hond goed gebruik maakt van de wind. Samen met de voorjager probeert de hond wild te vinden( en voor te staan) Voor staande Jachthonden die eens wat anders willen. \n  \nExacte locatie en tijdstip volgen.
URL:https://www.jfsw.nl/training/2018-kennismaking-veldwerk-dag-2/
END:VEVENT
BEGIN:VEVENT
DTSTART;VALUE=DATE:20181216
DTEND;VALUE=DATE:20181217
DTSTAMP:20260423T215035
CREATED:20181121T183022Z
LAST-MODIFIED:20181121T200356Z
UID:433-1544918400-1545004799@www.jfsw.nl
SUMMARY:2018 Kennismaking veldwerk dag 1
DESCRIPTION:Tijdens deze dagen leren we de hond “lezen” We kijken hoe de hond goed gebruik maakt van de wind. Samen met de voorjager probeert de hond wild te vinden( en voor te staan) Voor staande Jachthonden die eens wat anders willen. \n  \nExacte locatie en tijdstip volgen.
URL:https://www.jfsw.nl/training/2018-kennismaking-veldwerk-dag-1/
CATEGORIES:Workshop
END:VEVENT
END:VCALENDAR